Package: DiffLogo Version: 2.23.0 Command: /home/biocbuild/bbs-3.17-bioc/R/bin/R CMD check --install=check:DiffLogo.install-out.txt --library=/home/biocbuild/bbs-3.17-bioc/R/site-library --timings DiffLogo_2.23.0.tar.gz StartedAt: 2023-04-12 05:54:00 -0400 (Wed, 12 Apr 2023) EndedAt: 2023-04-12 05:55:52 -0400 (Wed, 12 Apr 2023) EllapsedTime: 112.4 seconds RetCode: 0 Status: WARNINGS CheckDir: DiffLogo.Rcheck Warnings: 1