Package: CopywriteR Version: 2.31.1 Command: /home/biocbuild/bbs-3.17-bioc/R/bin/R CMD INSTALL CopywriteR StartedAt: 2023-04-11 15:15:48 -0400 (Tue, 11 Apr 2023) EndedAt: 2023-04-11 15:16:16 -0400 (Tue, 11 Apr 2023) EllapsedTime: 28.0 seconds RetCode: 0 Status: OK