Package: CopywriteR Version: 2.31.1 Command: /home/biocbuild/bbs-3.17-bioc/R/bin/R CMD build --keep-empty-dirs --no-resave-data CopywriteR StartedAt: 2023-04-11 16:12:44 -0400 (Tue, 11 Apr 2023) EndedAt: 2023-04-11 16:14:14 -0400 (Tue, 11 Apr 2023) EllapsedTime: 90.0 seconds RetCode: 1 Status: ERROR PackageFile: None PackageFileSize: NA