Package: CellBench Version: 1.15.7 Command: /home/biocbuild/bbs-3.17-bioc/R/bin/R CMD INSTALL CellBench StartedAt: 2023-04-12 01:39:04 -0400 (Wed, 12 Apr 2023) EndedAt: 2023-04-12 01:39:44 -0400 (Wed, 12 Apr 2023) EllapsedTime: 40.0 seconds RetCode: 0 Status: OK