Package: CSSP Version: 1.37.0 Command: /home/biocbuild/bbs-3.17-bioc/R/bin/R CMD check --install=check:CSSP.install-out.txt --library=/home/biocbuild/bbs-3.17-bioc/R/site-library --timings CSSP_1.37.0.tar.gz StartedAt: 2023-04-11 19:37:52 -0400 (Tue, 11 Apr 2023) EndedAt: 2023-04-11 19:38:41 -0400 (Tue, 11 Apr 2023) EllapsedTime: 49.4 seconds RetCode: 1 Status: ERROR CheckDir: CSSP.Rcheck Warnings: NA