Package: CSSP Version: 1.37.0 Command: /home/biocbuild/bbs-3.17-bioc/R/bin/R CMD build --keep-empty-dirs --no-resave-data CSSP StartedAt: 2023-04-11 16:14:40 -0400 (Tue, 11 Apr 2023) EndedAt: 2023-04-11 16:14:52 -0400 (Tue, 11 Apr 2023) EllapsedTime: 12.3 seconds RetCode: 0 Status: OK PackageFile: CSSP_1.37.0.tar.gz PackageFileSize: 597.9 KiB