Package: CRImage Version: 1.47.0 Command: /home/biocbuild/bbs-3.17-bioc/R/bin/R CMD INSTALL CRImage StartedAt: 2023-04-12 01:57:27 -0400 (Wed, 12 Apr 2023) EndedAt: 2023-04-12 01:57:43 -0400 (Wed, 12 Apr 2023) EllapsedTime: 15.8 seconds RetCode: 0 Status: OK