Package: CNORode Version: 1.41.2 Command: /home/biocbuild/bbs-3.17-bioc/R/bin/R CMD INSTALL CNORode StartedAt: 2023-04-12 01:44:24 -0400 (Wed, 12 Apr 2023) EndedAt: 2023-04-12 01:44:47 -0400 (Wed, 12 Apr 2023) EllapsedTime: 23.4 seconds RetCode: 0 Status: OK