Package: BiocDockerManager Version: 1.11.1 Command: /home/biocbuild/bbs-3.17-bioc/R/bin/R CMD build --keep-empty-dirs --no-resave-data BiocDockerManager StartedAt: 2023-04-12 02:17:40 -0400 (Wed, 12 Apr 2023) EndedAt: 2023-04-12 02:17:53 -0400 (Wed, 12 Apr 2023) EllapsedTime: 13.1 seconds RetCode: 0 Status: OK PackageFile: BiocDockerManager_1.11.1.tar.gz PackageFileSize: 233.1 KiB