Package: BiocBaseUtils Version: 1.1.0 Command: /home/biocbuild/bbs-3.17-bioc/R/bin/R CMD check --install=check:BiocBaseUtils.install-out.txt --library=/home/biocbuild/bbs-3.17-bioc/R/site-library --timings BiocBaseUtils_1.1.0.tar.gz StartedAt: 2023-04-11 18:49:38 -0400 (Tue, 11 Apr 2023) EndedAt: 2023-04-11 18:49:55 -0400 (Tue, 11 Apr 2023) EllapsedTime: 17.3 seconds RetCode: 0 Status: OK CheckDir: BiocBaseUtils.Rcheck Warnings: 0