git_url: https://git.bioconductor.org/packages/zebrafishRNASeq git_branch: RELEASE_3_17 git_last_commit: c46831b git_last_commit_date: 2023-04-25 10:35:57 -0400 (Tue, 25 Apr 2023) Package: zebrafishRNASeq Version: 1.20.0 Maintainer: Davide Risso MaintainerEmail: risso.davide at gmail.com