Package: spatialDmelxsim Version: 1.6.1 Command: /home/biocbuild/bbs-3.17-bioc/R/bin/R CMD INSTALL spatialDmelxsim StartedAt: 2023-10-12 10:08:28 -0400 (Thu, 12 Oct 2023) EndedAt: 2023-10-12 10:08:56 -0400 (Thu, 12 Oct 2023) EllapsedTime: 27.1 seconds RetCode: 0 Status: OK