Package: spatialDmelxsim Version: 1.6.1 Command: /home/biocbuild/bbs-3.17-bioc/R/bin/R CMD build --keep-empty-dirs --no-resave-data spatialDmelxsim StartedAt: 2023-10-12 10:51:46 -0400 (Thu, 12 Oct 2023) EndedAt: 2023-10-12 10:52:31 -0400 (Thu, 12 Oct 2023) EllapsedTime: 45.1 seconds RetCode: 0 Status: OK PackageFile: spatialDmelxsim_1.6.1.tar.gz PackageFileSize: 863.8 KiB