Package: seqCNA.annot Version: 1.36.0 Command: /home/biocbuild/bbs-3.17-bioc/R/bin/R CMD INSTALL seqCNA.annot StartedAt: 2023-10-12 10:00:45 -0400 (Thu, 12 Oct 2023) EndedAt: 2023-10-12 10:00:46 -0400 (Thu, 12 Oct 2023) EllapsedTime: 1.7 seconds RetCode: 0 Status: OK