Package: seqCNA.annot Version: 1.36.0 Command: /home/biocbuild/bbs-3.17-bioc/R/bin/R CMD check --install=check:seqCNA.annot.install-out.txt --library=/home/biocbuild/bbs-3.17-bioc/R/site-library --timings seqCNA.annot_1.36.0.tar.gz StartedAt: 2023-10-12 12:01:35 -0400 (Thu, 12 Oct 2023) EndedAt: 2023-10-12 12:02:06 -0400 (Thu, 12 Oct 2023) EllapsedTime: 31.6 seconds RetCode: 0 Status: OK CheckDir: seqCNA.annot.Rcheck Warnings: 0