Package: seqCNA.annot Version: 1.36.0 Command: /home/biocbuild/bbs-3.17-bioc/R/bin/R CMD build --keep-empty-dirs --no-resave-data seqCNA.annot StartedAt: 2023-10-12 10:50:21 -0400 (Thu, 12 Oct 2023) EndedAt: 2023-10-12 10:50:24 -0400 (Thu, 12 Oct 2023) EllapsedTime: 2.3 seconds RetCode: 0 Status: OK PackageFile: seqCNA.annot_1.36.0.tar.gz PackageFileSize: 14.47 MiB