git_url: https://git.bioconductor.org/packages/qPLEXdata git_branch: RELEASE_3_17 git_last_commit: 41c731c git_last_commit_date: 2023-04-25 10:45:43 -0400 (Tue, 25 Apr 2023) Package: qPLEXdata Version: 1.18.0 Maintainer: Kamal Kishore Developer MaintainerEmail: kamal.fartiyal84 at gmail.com