git_url: https://git.bioconductor.org/packages/prostateCancerTaylor git_branch: RELEASE_3_17 git_last_commit: b948bb1 git_last_commit_date: 2023-04-25 10:41:40 -0400 (Tue, 25 Apr 2023) Package: prostateCancerTaylor Version: 1.28.0 Maintainer: Mark Dunning MaintainerEmail: mark.dunning at cruk.cam.ac.uk