Package: optimalFlowData Version: 1.12.0 Command: /home/biocbuild/bbs-3.17-bioc/R/bin/R CMD check --install=check:optimalFlowData.install-out.txt --library=/home/biocbuild/bbs-3.17-bioc/R/site-library --timings optimalFlowData_1.12.0.tar.gz StartedAt: 2023-10-12 11:48:49 -0400 (Thu, 12 Oct 2023) EndedAt: 2023-10-12 11:49:50 -0400 (Thu, 12 Oct 2023) EllapsedTime: 61.4 seconds RetCode: 0 Status: WARNINGS CheckDir: optimalFlowData.Rcheck Warnings: 1