Package: octad.db Version: 1.2.0 Command: /home/biocbuild/bbs-3.17-bioc/R/bin/R CMD check --install=check:octad.db.install-out.txt --library=/home/biocbuild/bbs-3.17-bioc/R/site-library --timings octad.db_1.2.0.tar.gz StartedAt: 2023-10-12 11:48:30 -0400 (Thu, 12 Oct 2023) EndedAt: 2023-10-12 11:50:25 -0400 (Thu, 12 Oct 2023) EllapsedTime: 114.9 seconds RetCode: 0 Status: OK CheckDir: octad.db.Rcheck Warnings: 0