Package: nullrangesData Version: 1.6.0 Command: /home/biocbuild/bbs-3.17-bioc/R/bin/R CMD check --install=check:nullrangesData.install-out.txt --library=/home/biocbuild/bbs-3.17-bioc/R/site-library --timings nullrangesData_1.6.0.tar.gz StartedAt: 2023-10-12 11:47:30 -0400 (Thu, 12 Oct 2023) EndedAt: 2023-10-12 11:51:29 -0400 (Thu, 12 Oct 2023) EllapsedTime: 239.4 seconds RetCode: 0 Status: OK CheckDir: nullrangesData.Rcheck Warnings: 0