Package: minfiDataEPIC Version: 1.26.0 Command: /home/biocbuild/bbs-3.17-bioc/R/bin/R CMD INSTALL minfiDataEPIC StartedAt: 2023-10-12 10:09:22 -0400 (Thu, 12 Oct 2023) EndedAt: 2023-10-12 10:10:18 -0400 (Thu, 12 Oct 2023) EllapsedTime: 56.1 seconds RetCode: 0 Status: OK