git_url: https://git.bioconductor.org/packages/metaMSdata git_branch: RELEASE_3_17 git_last_commit: a1f0b03 git_last_commit_date: 2023-04-25 10:35:36 -0400 (Tue, 25 Apr 2023) Package: metaMSdata Version: 1.36.0 Maintainer: Yann Guitton MaintainerEmail: yann.guitton at gmail.com