git_url: https://git.bioconductor.org/packages/mcsurvdata git_branch: RELEASE_3_17 git_last_commit: e1fdacf git_last_commit_date: 2023-04-25 10:46:05 -0400 (Tue, 25 Apr 2023) Package: mcsurvdata Version: 1.18.0 Maintainer: Adria Caballe Mestres MaintainerEmail: adria.caballe at irbbarcelona.org