Package: healthyControlsPresenceChecker Version: 1.4.0 Command: /home/biocbuild/bbs-3.17-bioc/R/bin/R CMD INSTALL healthyControlsPresenceChecker StartedAt: 2023-10-12 10:02:32 -0400 (Thu, 12 Oct 2023) EndedAt: 2023-10-12 10:02:37 -0400 (Thu, 12 Oct 2023) EllapsedTime: 4.8 seconds RetCode: 0 Status: OK