Package: healthyControlsPresenceChecker Version: 1.4.0 Command: /home/biocbuild/bbs-3.17-bioc/R/bin/R CMD build --keep-empty-dirs --no-resave-data healthyControlsPresenceChecker StartedAt: 2023-10-12 10:33:05 -0400 (Thu, 12 Oct 2023) EndedAt: 2023-10-12 10:33:16 -0400 (Thu, 12 Oct 2023) EllapsedTime: 11.0 seconds RetCode: 0 Status: OK PackageFile: healthyControlsPresenceChecker_1.4.0.tar.gz PackageFileSize: 219.7 KiB