git_url: https://git.bioconductor.org/packages/healthyControlsPresenceChecker git_branch: RELEASE_3_17 git_last_commit: b63fe9c git_last_commit_date: 2023-04-25 10:51:16 -0400 (Tue, 25 Apr 2023) Package: healthyControlsPresenceChecker Version: 1.4.0 Maintainer: Davide Chicco MaintainerEmail: davide.chicco at gmail.com