git_url: https://git.bioconductor.org/packages/fourDNData git_branch: RELEASE_3_17 git_last_commit: d5c352f git_last_commit_date: 2023-04-25 10:52:10 -0400 (Tue, 25 Apr 2023) Package: fourDNData Version: 1.0.0 Maintainer: Jacques Serizay MaintainerEmail: jacquesserizay at gmail.com