Package: flowWorkspaceData Version: 3.12.0 Command: /home/biocbuild/bbs-3.17-bioc/R/bin/R CMD INSTALL flowWorkspaceData StartedAt: 2023-10-12 10:00:44 -0400 (Thu, 12 Oct 2023) EndedAt: 2023-10-12 10:00:47 -0400 (Thu, 12 Oct 2023) EllapsedTime: 2.4 seconds RetCode: 0 Status: OK