Package: ffpeExampleData Version: 1.38.0 Command: /home/biocbuild/bbs-3.17-bioc/R/bin/R CMD check --install=check:ffpeExampleData.install-out.txt --library=/home/biocbuild/bbs-3.17-bioc/R/site-library --timings ffpeExampleData_1.38.0.tar.gz StartedAt: 2023-10-12 11:20:20 -0400 (Thu, 12 Oct 2023) EndedAt: 2023-10-12 11:23:07 -0400 (Thu, 12 Oct 2023) EllapsedTime: 166.6 seconds RetCode: 0 Status: OK CheckDir: ffpeExampleData.Rcheck Warnings: 0