git_url: https://git.bioconductor.org/packages/epimutacionsData git_branch: RELEASE_3_17 git_last_commit: 6ef8b46 git_last_commit_date: 2023-04-25 10:51:30 -0400 (Tue, 25 Apr 2023) Package: epimutacionsData Version: 1.4.0 Maintainer: Leire Abarrategui MaintainerEmail: abarrategui.leire at gmail.com