git_url: https://git.bioconductor.org/packages/derfinderData git_branch: RELEASE_3_17 git_last_commit: 8d547df git_last_commit_date: 2023-04-25 10:37:01 -0400 (Tue, 25 Apr 2023) Package: derfinderData Version: 2.18.0 Maintainer: Leonardo Collado-Torres MaintainerEmail: lcolladotor at gmail.com