Package: chipseqDBData Version: 1.16.0 Command: /home/biocbuild/bbs-3.17-bioc/R/bin/R CMD build --keep-empty-dirs --no-resave-data chipseqDBData StartedAt: 2023-10-12 10:17:18 -0400 (Thu, 12 Oct 2023) EndedAt: 2023-10-12 10:18:34 -0400 (Thu, 12 Oct 2023) EllapsedTime: 75.8 seconds RetCode: 0 Status: OK PackageFile: chipseqDBData_1.16.0.tar.gz PackageFileSize: 301 KiB