git_url: https://git.bioconductor.org/packages/celarefData git_branch: RELEASE_3_17 git_last_commit: 6424042 git_last_commit_date: 2023-04-25 10:45:52 -0400 (Tue, 25 Apr 2023) Package: celarefData Version: 1.18.0 Maintainer: Sarah Williams MaintainerEmail: sarah.williams1 at monash.edu