git_url: https://git.bioconductor.org/packages/ccdata git_branch: RELEASE_3_17 git_last_commit: 87c09c4 git_last_commit_date: 2023-04-25 10:43:05 -0400 (Tue, 25 Apr 2023) Package: ccdata Version: 1.26.0 Maintainer: Alex Pickering MaintainerEmail: alexvpickering at gmail.com