git_url: https://git.bioconductor.org/packages/breakpointRdata git_branch: RELEASE_3_17 git_last_commit: 92ad34d git_last_commit_date: 2023-04-25 10:46:09 -0400 (Tue, 25 Apr 2023) Package: breakpointRdata Version: 1.18.0 Maintainer: David Porubsky MaintainerEmail: david.porubsky at gmail.com