Package: blimaTestingData Version: 1.20.0 Command: /home/biocbuild/bbs-3.17-bioc/R/bin/R CMD check --install=check:blimaTestingData.install-out.txt --library=/home/biocbuild/bbs-3.17-bioc/R/site-library --timings blimaTestingData_1.20.0.tar.gz StartedAt: 2023-10-12 11:00:13 -0400 (Thu, 12 Oct 2023) EndedAt: 2023-10-12 11:02:06 -0400 (Thu, 12 Oct 2023) EllapsedTime: 113.3 seconds RetCode: 0 Status: OK CheckDir: blimaTestingData.Rcheck Warnings: 0