Package: TCGAcrcmiRNA Version: 1.20.0 Command: /home/biocbuild/bbs-3.17-bioc/R/bin/R CMD INSTALL TCGAcrcmiRNA StartedAt: 2023-10-12 10:01:22 -0400 (Thu, 12 Oct 2023) EndedAt: 2023-10-12 10:01:24 -0400 (Thu, 12 Oct 2023) EllapsedTime: 2.9 seconds RetCode: 0 Status: OK