Package: TCGAcrcmiRNA Version: 1.20.0 Command: /home/biocbuild/bbs-3.17-bioc/R/bin/R CMD check --install=check:TCGAcrcmiRNA.install-out.txt --library=/home/biocbuild/bbs-3.17-bioc/R/site-library --timings TCGAcrcmiRNA_1.20.0.tar.gz StartedAt: 2023-10-12 12:08:03 -0400 (Thu, 12 Oct 2023) EndedAt: 2023-10-12 12:08:27 -0400 (Thu, 12 Oct 2023) EllapsedTime: 23.3 seconds RetCode: 0 Status: OK CheckDir: TCGAcrcmiRNA.Rcheck Warnings: 0