Package: TCGAcrcmiRNA Version: 1.20.0 Command: /home/biocbuild/bbs-3.17-bioc/R/bin/R CMD build --keep-empty-dirs --no-resave-data TCGAcrcmiRNA StartedAt: 2023-10-12 10:53:54 -0400 (Thu, 12 Oct 2023) EndedAt: 2023-10-12 10:53:58 -0400 (Thu, 12 Oct 2023) EllapsedTime: 4.6 seconds RetCode: 0 Status: OK PackageFile: TCGAcrcmiRNA_1.20.0.tar.gz PackageFileSize: 850.4 KiB