Package: RTCGA.rnaseq Version: 20151101.30.0 Command: /home/biocbuild/bbs-3.17-bioc/R/bin/R CMD INSTALL RTCGA.rnaseq StartedAt: 2023-10-12 10:03:47 -0400 (Thu, 12 Oct 2023) EndedAt: 2023-10-12 10:07:37 -0400 (Thu, 12 Oct 2023) EllapsedTime: 229.5 seconds RetCode: 0 Status: OK