Package: RTCGA.rnaseq Version: 20151101.30.0 Command: /home/biocbuild/bbs-3.17-bioc/R/bin/R CMD check --install=check:RTCGA.rnaseq.install-out.txt --library=/home/biocbuild/bbs-3.17-bioc/R/site-library --timings RTCGA.rnaseq_20151101.30.0.tar.gz StartedAt: 2023-10-12 11:58:49 -0400 (Thu, 12 Oct 2023) EndedAt: 2023-10-12 12:01:46 -0400 (Thu, 12 Oct 2023) EllapsedTime: 177.2 seconds RetCode: 0 Status: WARNINGS CheckDir: RTCGA.rnaseq.Rcheck Warnings: 1