Package: RTCGA.rnaseq Version: 20151101.30.0 Command: /home/biocbuild/bbs-3.17-bioc/R/bin/R CMD build --keep-empty-dirs --no-resave-data RTCGA.rnaseq StartedAt: 2023-10-12 10:48:22 -0400 (Thu, 12 Oct 2023) EndedAt: 2023-10-12 10:52:53 -0400 (Thu, 12 Oct 2023) EllapsedTime: 271.4 seconds RetCode: 0 Status: OK PackageFile: RTCGA.rnaseq_20151101.30.0.tar.gz PackageFileSize: 612.6 MiB