Package: RTCGA.PANCAN12 Version: 1.28.0 Command: /home/biocbuild/bbs-3.17-bioc/R/bin/R CMD INSTALL RTCGA.PANCAN12 StartedAt: 2023-10-12 10:02:58 -0400 (Thu, 12 Oct 2023) EndedAt: 2023-10-12 10:03:06 -0400 (Thu, 12 Oct 2023) EllapsedTime: 8.5 seconds RetCode: 0 Status: OK