Package: RTCGA.PANCAN12 Version: 1.28.0 Command: /home/biocbuild/bbs-3.17-bioc/R/bin/R CMD build --keep-empty-dirs --no-resave-data RTCGA.PANCAN12 StartedAt: 2023-10-12 10:48:09 -0400 (Thu, 12 Oct 2023) EndedAt: 2023-10-12 10:48:35 -0400 (Thu, 12 Oct 2023) EllapsedTime: 25.3 seconds RetCode: 0 Status: OK PackageFile: RTCGA.PANCAN12_1.28.0.tar.gz PackageFileSize: 213.9 MiB