git_url: https://git.bioconductor.org/packages/RRBSdata git_branch: RELEASE_3_17 git_last_commit: 9870242 git_last_commit_date: 2023-04-25 10:37:04 -0400 (Tue, 25 Apr 2023) Package: RRBSdata Version: 1.20.0 Maintainer: Katja Hebestreit MaintainerEmail: katja.hebestreit at gmail.com