Package: RNAseqData.HNRNPC.bam.chr14 Version: 0.38.0 Command: /home/biocbuild/bbs-3.17-bioc/R/bin/R CMD build --keep-empty-dirs --no-resave-data RNAseqData.HNRNPC.bam.chr14 StartedAt: 2023-10-12 10:47:12 -0400 (Thu, 12 Oct 2023) EndedAt: 2023-10-12 10:48:00 -0400 (Thu, 12 Oct 2023) EllapsedTime: 48.1 seconds RetCode: 0 Status: OK PackageFile: RNAseqData.HNRNPC.bam.chr14_0.38.0.tar.gz PackageFileSize: 332.5 MiB