git_url: https://git.bioconductor.org/packages/RNAseqData.HNRNPC.bam.chr14 git_branch: RELEASE_3_17 git_last_commit: 08e9421 git_last_commit_date: 2023-04-25 10:33:12 -0400 (Tue, 25 Apr 2023) Package: RNAseqData.HNRNPC.bam.chr14 Version: 0.38.0 Maintainer: Hervé Pagès MaintainerEmail: hpages.on.github at gmail.com