git_url: https://git.bioconductor.org/packages/QDNAseq.hg19 git_branch: RELEASE_3_17 git_last_commit: 166405b git_last_commit_date: 2023-04-25 10:39:08 -0400 (Tue, 25 Apr 2023) Package: QDNAseq.hg19 Version: 1.30.0 Maintainer: Daoud Sie MaintainerEmail: d.sie at vumc.nl