Package: PathNetData Version: 1.36.1 Command: /home/biocbuild/bbs-3.17-bioc/R/bin/R CMD check --install=check:PathNetData.install-out.txt --library=/home/biocbuild/bbs-3.17-bioc/R/site-library --timings PathNetData_1.36.1.tar.gz StartedAt: 2023-10-12 11:49:51 -0400 (Thu, 12 Oct 2023) EndedAt: 2023-10-12 11:50:06 -0400 (Thu, 12 Oct 2023) EllapsedTime: 15.0 seconds RetCode: 0 Status: OK CheckDir: PathNetData.Rcheck Warnings: 0